Workbook
Name Month: #REF!

Sheet Form
B1: PAYMENT DISTRIBUTION FORM | G1: Please complete all grey shaded areas.
B3: Name: | G3: Statement Month:
B5: =VLOOKUP(J3,Lookup!A1:B12,2,FALSE) -> #N/A | C5: 2026 | D5: Personal Credit Card Number: | G5: =VLOOKUP($C$3,Lookup!$B$15:$K$201,5,FALSE) -> #N/A | H5: =VLOOKUP($C$3,Lookup!$B$15:$K$201,6,FALSE) -> #N/A | I5: =VLOOKUP($C$3,Lookup!$B$15:$K$201,7,FALSE) -> #N/A | J5: =VLOOKUP($C$3,Lookup!$B$15:$K$201,8,FALSE) -> #N/A | K5: =VLOOKUP($C$3,Lookup!$B$15:$K$201,9,FALSE) -> #N/A | L5: =VLOOKUP($C$3,Lookup!$B$15:$K$201,10,FALSE) -> #N/A | M5: =SUM(M9:M40)*-1 -> 0 | N5: =CONCATENATE(C2,"-Mcard_",J3) -> -Mcard_
B6: Information from Credit Card Statement | G6: Beloit College - Payment Distribution Information
B7: Posting Date | C7: Transaction Date | D7: Merchant | E7: Location | F7: Statement Amount | G7: Jenzabar Account Number | M7: Distribution Amount | N7: Business Purpose/Expense Details
G8: Fund | H8: Dept | I8: Identifier | J8: Act. | K8: Sub-Act | L8: Obj.Code
A9: 1 | J9: 00 | K9: 000
A10: =A9+1 -> 2 | J10: 00 | K10: 000
A11: =A10+1 -> 3 | J11: 00 | K11: 000
A12: =A11+1 -> 4 | J12: 00 | K12: 000
A13: =A12+1 -> 5 | J13: 00 | K13: 000
A14: =A13+1 -> 6 | J14: 00 | K14: 000
A15: =A14+1 -> 7 | J15: 00 | K15: 000
A16: =A15+1 -> 8 | J16: 00 | K16: 000
A17: =A16+1 -> 9 | J17: 00 | K17: 000
A18: =A17+1 -> 10 | J18: 00 | K18: 000
A19: =A18+1 -> 11 | J19: 00 | K19: 000
A20: =A19+1 -> 12 | J20: 00 | K20: 000
A21: =A20+1 -> 13 | J21: 00 | K21: 000
... A40: =A39+1 -> 32 | J40: 00 | K40: 000
E41: Statement Total | F41: =SUM(F9:F40) -> 0 | I41: Distribution Total | M41: =SUM(M9:M40) -> 0
B44: Employee's Signature | H44: Date | M44: Supervisor's Signature
B46: If more rows are needed, please do not insert them above the top line or below the bottom line.
B47: Email the completed form to creditcard@beloit.edu using the cardholder's name and statement date in the subject line. | M47: Supervisor's Signature

Sheet Accounting
A1: amt | B1: acct_cde | C1: description
A2: =Form!M5 -> 0 | B2: =CONCATENATE(Form!G5,Form!H5,Form!I5,Form!J5,Form!K5,Form!L5) -> #N/A | C2: =VLOOKUP(Form!$C$3,Lookup!$B$15:$D$201,2,FALSE)&Form!N5 -> #N/A
A3: =Form!M9 -> 0 | B3: =CONCATENATE(Form!G9,Form!H9,Form!I9,Form!J9,Form!K9,Form!L9) -> 00000 | C3: =VLOOKUP(Form!$C$3,Lookup!$B$15:$E$201,4,FALSE)&"-"&LEFT(Form!D9,6)&"-"&Form!N9 -> #N/A
A4: =Form!M10 -> 0 | B4: =CONCATENATE(Form!G10,Form!H10,Form!I10,Form!J10,Form!K10,Form!L10) -> 00000 | C4: =VLOOKUP(Form!$C$3,Lookup!$B$15:$E$201,4,FALSE)&"-"&LEFT(Form!D10,6)&"-"&Form!N10 -> #N/A
A5: =Form!M11 -> 0 | B5: =CONCATENATE(Form!G11,Form!H11,Form!I11,Form!J11,Form!K11,Form!L11) -> 00000 | C5: =VLOOKUP(Form!$C$3,Lookup!$B$15:$E$201,4,FALSE)&"-"&LEFT(Form!D11,6)&"-"&Form!N11 -> #N/A
A6: =Form!M12 -> 0 | B6: =CONCATENATE(Form!G12,Form!H12,Form!I12,Form!J12,Form!K12,Form!L12) -> 00000 | C6: =VLOOKUP(Form!$C$3,Lookup!$B$15:$E$201,4,FALSE)&"-"&LEFT(Form!D12,6)&"-"&Form!N12 -> #N/A
A7: =Form!M13 -> 0 | B7: =CONCATENATE(Form!G13,Form!H13,Form!I13,Form!J13,Form!K13,Form!L13) -> 00000 | C7: =VLOOKUP(Form!$C$3,Lookup!$B$15:$E$201,4,FALSE)&"-"&LEFT(Form!D13,6)&"-"&Form!N13 -> #N/A
A8: =Form!M14 -> 0 | B8: =CONCATENATE(Form!G14,Form!H14,Form!I14,Form!J14,Form!K14,Form!L14) -> 00000 | C8: =VLOOKUP(Form!$C$3,Lookup!$B$15:$E$201,4,FALSE)&"-"&LEFT(Form!D14,6)&"-"&Form!N14 -> #N/A
A9: =Form!M15 -> 0 | B9: =CONCATENATE(Form!G15,Form!H15,Form!I15,Form!J15,Form!K15,Form!L15) -> 00000 | C9: =VLOOKUP(Form!$C$3,Lookup!$B$15:$E$201,4,FALSE)&"-"&LEFT(Form!D15,6)&"-"&Form!N15 -> #N/A
A10: =Form!M16 -> 0 | B10: =CONCATENATE(Form!G16,Form!H16,Form!I16,Form!J16,Form!K16,Form!L16) -> 00000 | C10: =VLOOKUP(Form!$C$3,Lookup!$B$15:$E$201,4,FALSE)&"-"&LEFT(Form!D16,6)&"-"&Form!N16 -> #N/A
A11: =Form!M17 -> 0 | B11: =CONCATENATE(Form!G17,Form!H17,Form!I17,Form!J17,Form!K17,Form!L17) -> 00000 | C11: =VLOOKUP(Form!$C$3,Lookup!$B$15:$E$201,4,FALSE)&"-"&LEFT(Form!D17,6)&"-"&Form!N17 -> #N/A
A12: =Form!M18 -> 0 | B12: =CONCATENATE(Form!G18,Form!H18,Form!I18,Form!J18,Form!K18,Form!L18) -> 00000 | C12: =VLOOKUP(Form!$C$3,Lookup!$B$15:$E$201,4,FALSE)&"-"&LEFT(Form!D18,6)&"-"&Form!N18 -> #N/A
A13: =Form!M19 -> 0 | B13: =CONCATENATE(Form!G19,Form!H19,Form!I19,Form!J19,Form!K19,Form!L19) -> 00000 | C13: =VLOOKUP(Form!$C$3,Lookup!$B$15:$E$201,4,FALSE)&"-"&LEFT(Form!D19,6)&"-"&Form!N19 -> #N/A
A14: =Form!M20 -> 0 | B14: =CONCATENATE(Form!G20,Form!H20,Form!I20,Form!J20,Form!K20,Form!L20) -> 00000 | C14: =VLOOKUP(Form!$C$3,Lookup!$B$15:$E$201,4,FALSE)&"-"&LEFT(Form!D20,6)&"-"&Form!N20 -> #N/A
... A34: =Form!M40 -> 0 | B34: =CONCATENATE(Form!G40,Form!H40,Form!I40,Form!J40,Form!K40,Form!L40) -> 00000 | C34: =VLOOKUP(Form!$C$3,Lookup!$B$15:$E$201,4,FALSE)&"-"&LEFT(Form!D40,6)&"-"&Form!N40 -> #N/A

Sheet Lookup
A1: January | B1: 1/31/
A2: February | B2: 2/28/
A3: March | B3: 3/31/
A4: April | B4: 4/30/
A5: May | B5: 5/31/
A6: June | B6: 6/30/
A7: July | B7: 7/31/
A8: August | B8: 8/31/
A9: September | B9: 9/30/
A10: October | B10: 10/31/
A11: November | B11: 11/30/
A12: December | B12: 12/31/
A14: ID | B14: Full Name | C14: Last Name | D14: First Name | E14: Initials | F14: Fund | G14: Dept | H14: Identifier | I14: Act. | J14: Sub-Act | K14: Obj.Code
A15: 70342 | B15: Affognon, William | C15: Affognon | D15: William | E15: WA | F15: 01 | G15: 57560 | H15: 00000 | I15: 00 | J15: 000 | K15: 70100
A16: 70318 | B16: Anderbyrne, Ellenor | C16: Anderbyrne | D16: Ellenor | E16: EA | F16: 01 | G16: 65650 | H16: 00000 | I16: 00 | J16: 000 | K16: 70100
A17: 70168 | B17: Bailey, Alicia | C17: Bailey | D17: Alicia | E17: AB | F17: 01 | G17: 11165 | H17: 00000 | I17: 00 | J17: 000 | K17: 70100
A18: 70409 | B18: Ballentine, Hope | C18: Ballentine | D18: Hope | E18: HB | F18: 01 | G18: 63623 | H18: 00000 | I18: 00 | J18: 000 | K18: 70100
A19: 70198 | B19: Beckman, Joy | C19: Beckman | D19: Joy | E19: JB | F19: 01 | G19: 11143 | H19: 00000 | I19: 00 | J19: 000 | K19: 70100
A20: 70344 | B20: Bishop, Angela | C20: Bishop | D20: Angela | E20: AB | F20: 01 | G20: 61601 | H20: 00000 | I20: 00 | J20: 000 | K20: 70100
A21: 70116 | B21: Bliese, Brian | C21: Bliese | D21: Brian | E21: BB | F21: 01 | G21: 57565 | H21: 00000 | I21: 00 | J21: 000 | K21: 70100
A22: 70293 | B22: Boynton, Eric | C22: Boynton | D22: Eric | E22: EB | F22: 01 | G22: 61601 | H22: 00000 | I22: 00 | J22: 000 | K22: 70100
A23: 70022 | B23: Bradley, Gloria | C23: Bradley | D23: Gloria | E23: GB | F23: 01 | G23: 53518 | H23: 00000 | I23: 00 | J23: 000 | K23: 70100
A24: 70406 | B24: Buckley, Shane | C24: Buckley | D24: Shane | E24: SB | F24: 01 | G24: 57571 | H24: 00000 | I24: 00 | J24: 000 | K24: 70100
A25: 70314 | B25: Butz, Joseph M | C25: Butz | D25: Joseph M | E25: JB | F25: 01 | G25: 57560 | H25: 00000 | I25: 00 | J25: 000 | K25: 70100
A26: 70404 | B26: Campbell, Michele | C26: Campbell | D26: Michele | E26: MC | F26: 01 | G26: 62614 | H26: 00000 | I26: 00 | J26: 000 | K26: 70100
... A49: 70350 | B49: Goebel, Suzanne | C49: Goebel | D49: Suzanne | E49: SG | F49: 01 | G49: 40325 | H49: 00000 | I49: 00 | J49: 000 | K49: 70100
A50: 70425 | B50: Grant, Justin | C50: Grant | D50: Justin | E50: JG | F50: 04 | G50: 30402 | H50: 50084 | I50: 00 | J50: 000 | K50: 70100
A51: 70209 | B51: Grossman, Yaffa | C51: Grossman | D51: Yaffa | E51: YG | F51: 01 | G51: 50500 | H51: 00000 | I51: 00 | J51: 000 | K51: 70100
A52: 70006 | B52: Hadavas, Constantine | C52: Hadavas | D52: Constantine | E52: CH | F52: 01 | G52: 11151 | H52: 00000 | I52: 00 | J52: 000 | K52: 70100
A53: 70252 | B53: Hendrix, Regina | C53: Hendrix | D53: Regina | E53: RH | F53: 04 | G53: 30400 | H53: 60018 | I53: 00 | J53: 000 | K53: 70100
A54: 70095 | B54: Henkel, Betsy | C54: Henkel | D54: Betsy | E54: BH | F54: 01 | G54: 52510 | H54: 00000 | I54: 00 | J54: 000 | K54: 70100
A55: 70418 | B55: Hermann, Lara | C55: Hermann | D55: Lara | E55: LH | F55: 01 | G55: 62617 | H55: 00000 | I55: 00 | J55: 000 | K55: 70100
A56: 70380 | B56: Hintz, Sarah | C56: Hintz | D56: Sarah | E56: SH | F56: 01 | G56: 64646 | H56: 00000 | I56: 00 | J56: 000 | K56: 70100
A57: 70282 | B57: Hinz, Josh | C57: Hinz | D57: Josh | E57: JH | F57: 01 | G57: 57561 | H57: 00000 | I57: 00 | J57: 000 | K57: 70100
A58: 70215 | B58: Johnson, Sonya | C58: Johnson | D58: Sonya | E58: SJ | F58: 01 | G58: 11160 | H58: 00000 | I58: 00 | J58: 000 | K58: 70100
A59: 70121 | B59: Jolly, Shannon | C59: Jolly | D59: Shannon | E59: SJ | F59: 01 | G59: 10104 | H59: 00000 | I59: 00 | J59: 000 | K59: 70100
A60: 70412 | B60: Jones, Emily | C60: Jones | D60: Emily | E60: EJ | F60: 01 | G60: 56555 | H60: 00000 | I60: 00 | J60: 000 | K60: 70100
A61: 70101 | B61: Joyce, Ellen | C61: Joyce | D61: Ellen | E61: EJ | F61: 01 | G61: 11156 | H61: 00000 | I61: 00 | J61: 000 | K61: 70100
A62: 70419 | B62: Kaveney, Ryan | C62: Kaveney | D62: Ryan | E62: RK | F62: 01 | G62: 57563 | H62: 00000 | I62: 00 | J62: 000 | K62: 70100
A63: 70422 | B63: Kinzelman, Cara | C63: Kinzelman | D63: Cara | E63: CK | F63: 01 | G63: 62611 | H63: 00000 | I63: 00 | J63: 000 | K63: 70100
...
